BEGIN:VCALENDAR
VERSION:2.0
PRODID:SchoolNow
CALSCALE:GREGORIAN
BEGIN:VEVENT
UID:3e679dde-589a-11ee-b1ab-0a58a9feac02
DTSTAMP:20231102T123736Z
SUMMARY:CDD Board Meeting - Feb. 2024
LOCATION:Office of Rizzetta & Company Inc. located at 2700 S. Falkenburg Ro
 ad\, Suite 2745\, Riverview\, FL 33578
URL;VALUE=URI:https://www.hawkstonecdd.org/calendar/4774368/cdd-board-meeti
 ng-feb-2024
DTSTART:20240221T210000Z
DTEND:20240221T213000Z
END:VEVENT
END:VCALENDAR
