BEGIN:VCALENDAR
VERSION:2.0
PRODID:SchoolNow
CALSCALE:GREGORIAN
BEGIN:VEVENT
UID:4af93aa8-589a-11ee-8a17-0a58a9feac02
DTSTAMP:20231102T123724Z
SUMMARY:CDD Board Meeting - Mar. 2024
LOCATION:Office of Rizzetta & Company Inc. located at 2700 S. Falkenburg Ro
 ad\, Suite 2745\, Riverview\, FL 33578
URL;VALUE=URI:https://www.hawkstonecdd.org/calendar/4774369/cdd-board-meeti
 ng-mar-2024
DTSTART:20240320T200000Z
DTEND:20240320T203000Z
END:VEVENT
END:VCALENDAR
