BEGIN:VCALENDAR
VERSION:2.0
PRODID:SchoolNow
CALSCALE:GREGORIAN
BEGIN:VEVENT
UID:53b5bfea-589a-11ee-a17b-0a58a9feac02
DTSTAMP:20240416T171309Z
SUMMARY:CDD Board Meeting - Apr. 2024 - Cancelled
LOCATION:Office of Rizzetta & Company Inc. located at 2700 S. Falkenburg Ro
 ad\, Suite 2745\, Riverview\, FL 33578
URL;VALUE=URI:https://www.hawkstonecdd.org/calendar/4774370/cdd-board-meeti
 ng-apr-2024
DTSTART:20240417T200000Z
DTEND:20240417T203000Z
END:VEVENT
END:VCALENDAR
