BEGIN:VCALENDAR
VERSION:2.0
PRODID:SchoolNow
CALSCALE:GREGORIAN
BEGIN:VEVENT
UID:5d672ccc-589a-11ee-ac1b-0a58a9feac02
DTSTAMP:20231102T123659Z
SUMMARY:CDD Board Meeting - May 2024
LOCATION:Office of Rizzetta & Company Inc. located at 2700 S. Falkenburg Ro
 ad\, Suite 2745\, Riverview\, FL 33578
URL;VALUE=URI:https://www.hawkstonecdd.org/calendar/4774371/cdd-board-meeti
 ng-may-2024
DTSTART:20240515T200000Z
DTEND:20240515T203000Z
END:VEVENT
END:VCALENDAR
