BEGIN:VCALENDAR
VERSION:2.0
PRODID:SchoolNow
CALSCALE:GREGORIAN
BEGIN:VEVENT
UID:675f7acc-589a-11ee-9561-0a58a9feac02
DTSTAMP:20240618T145510Z
SUMMARY:CDD Board Meeting - Jun. 2024
LOCATION:Office of Rizzetta & Company Inc. located at 2700 S. Falkenburg Ro
 ad\, Suite 2745\, Riverview\, FL 33578
URL;VALUE=URI:https://www.hawkstonecdd.org/calendar/4774372/cdd-board-meeti
 ng-jun-2024
DTSTART:20240619T200000Z
DTEND:20240619T203000Z
ATTACH;FILENAME=2024-06-19- Hawkstone CDD- Revised Final Agenda.pdf;FMTTYPE
 =application/pdf:https://campussuite-storage.s3.amazonaws.com/prod/1558880
 /27c2e9a8-ea99-11e9-a1be-0a20d2c7fac4/2809143/aeec2954-2d82-11ef-9a6b-0a58
 a9feac02/file/2024-06-19- Hawkstone CDD- Revised Final Agenda.pdf
END:VEVENT
END:VCALENDAR
