BEGIN:VCALENDAR
VERSION:2.0
PRODID:SchoolNow
CALSCALE:GREGORIAN
BEGIN:VEVENT
UID:70dbcb5a-589a-11ee-94d0-0a58a9feac02
DTSTAMP:20240715T202458Z
SUMMARY:CDD Board Meeting - Jul. 2024
LOCATION:Office of Rizzetta & Company Inc. located at 2700 S. Falkenburg Ro
 ad\, Suite 2745\, Riverview\, FL 33578
URL;VALUE=URI:https://www.hawkstonecdd.org/calendar/4774373/cdd-board-meeti
 ng-jul-2024
DTSTART:20240717T200000Z
DTEND:20240717T203000Z
ATTACH;FILENAME=2024-07-17- Hawkstone CDD- Revised Final Agenda.pdf;FMTTYPE
 =application/pdf:https://campussuite-storage.s3.amazonaws.com/prod/1558880
 /27c2e9a8-ea99-11e9-a1be-0a20d2c7fac4/2818855/41784878-42e8-11ef-9a5b-0a58
 a9feac02/file/2024-07-17- Hawkstone CDD- Revised Final Agenda.pdf
END:VEVENT
END:VCALENDAR
