BEGIN:VCALENDAR
VERSION:2.0
PRODID:SchoolNow
CALSCALE:GREGORIAN
BEGIN:VEVENT
UID:7a5221ca-589a-11ee-8c9f-0a58a9feac02
DTSTAMP:20231102T123606Z
SUMMARY:CDD Board Meeting - Aug. 2024
LOCATION:Office of Rizzetta & Company Inc. located at 2700 S. Falkenburg Ro
 ad\, Suite 2745\, Riverview\, FL 33578
URL;VALUE=URI:https://www.hawkstonecdd.org/calendar/4774374/cdd-board-meeti
 ng-aug-2024
DTSTART:20240821T200000Z
DTEND:20240821T203000Z
END:VEVENT
END:VCALENDAR
