BEGIN:VCALENDAR
VERSION:2.0
PRODID:SchoolNow
CALSCALE:GREGORIAN
BEGIN:VEVENT
UID:842d2e88-589a-11ee-be27-0a58a9feac02
DTSTAMP:20240910T160854Z
SUMMARY:CDD Board Meeting - Sept. 2024 - Cancelled
LOCATION:Office of Rizzetta & Company Inc. located at 2700 S. Falkenburg Ro
 ad\, Suite 2745\, Riverview\, FL 33578
URL;VALUE=URI:https://www.hawkstonecdd.org/calendar/4774375/cdd-board-meeti
 ng-sept-2024
DTSTART:20240918T200000Z
DTEND:20240918T203000Z
END:VEVENT
END:VCALENDAR
