BEGIN:VCALENDAR
VERSION:2.0
PRODID:SchoolNow
CALSCALE:GREGORIAN
BEGIN:VEVENT
UID:58722c16-6f8d-11ef-b3d4-0afff7df8a9b
DTSTAMP:20241015T122136Z
SUMMARY:CDD Board Meeting - Oct. 2024
LOCATION:Office of Rizzetta & Company Inc. located at 2700 S. Falkenburg Ro
 ad\, Suite 2745\, Riverview\, FL 33578
URL;VALUE=URI:https://www.hawkstonecdd.org/calendar/6569128/cdd-board-meeti
 ng-oct-2024
DTSTART:20241016T193000Z
DTEND:20241016T200000Z
ATTACH;FILENAME=2024-10-16 - Hawkstone CDD - Final Agenda.pdf;FMTTYPE=appli
 cation/pdf:https://campussuite-storage.s3.amazonaws.com/prod/1558880/27c2e
 9a8-ea99-11e9-a1be-0a20d2c7fac4/2862226/02c28f1c-8af0-11ef-aaa5-0a58a9feac
 02/file/2024-10-16 - Hawkstone CDD - Final Agenda.pdf
END:VEVENT
END:VCALENDAR
