BEGIN:VCALENDAR
VERSION:2.0
PRODID:SchoolNow
CALSCALE:GREGORIAN
BEGIN:VEVENT
UID:62953080-6f8d-11ef-a801-0e6e046549ed
DTSTAMP:20241119T210135Z
SUMMARY:CDD Board Meeting - Nov. 2024
LOCATION:Office of Rizzetta & Company Inc. located at 2700 S. Falkenburg Ro
 ad\, Suite 2745\, Riverview\, FL 33578
URL;VALUE=URI:https://www.hawkstonecdd.org/calendar/6569129/cdd-board-meeti
 ng-nov-2024
DTSTART:20241120T203000Z
DTEND:20241120T210000Z
ATTACH;FILENAME=2024-11-20 Hawkstone CDD Revised Final Agenda.pdf;FMTTYPE=a
 pplication/pdf:https://campussuite-storage.s3.amazonaws.com/prod/1558880/2
 7c2e9a8-ea99-11e9-a1be-0a20d2c7fac4/2881766/716e1352-a6b9-11ef-8213-0affc5
 872c7d/file/2024-11-20 Hawkstone CDD Revised Final Agenda.pdf
END:VEVENT
END:VCALENDAR
