BEGIN:VCALENDAR
VERSION:2.0
PRODID:SchoolNow
CALSCALE:GREGORIAN
BEGIN:VEVENT
UID:6cd7d052-6f8d-11ef-9982-0afff3f4b85f
DTSTAMP:20241211T213537Z
SUMMARY:CDD Board Meeting - Dec. 2024
LOCATION:Office of Rizzetta & Company Inc. located at 2700 S. Falkenburg Ro
 ad\, Suite 2745\, Riverview\, FL 33578
URL;VALUE=URI:https://www.hawkstonecdd.org/calendar/6569130/cdd-board-meeti
 ng-dec-2024
DTSTART:20241218T203000Z
DTEND:20241218T210000Z
ATTACH;FILENAME=2024-12-18- Hawkstone CDD-Final Agenda.pdf;FMTTYPE=applicat
 ion/pdf:https://campussuite-storage.s3.amazonaws.com/prod/1558880/27c2e9a8
 -ea99-11e9-a1be-0a20d2c7fac4/2890566/d8933efe-b807-11ef-bb04-0a58a9feac02/
 file/2024-12-18- Hawkstone CDD-Final Agenda.pdf
END:VEVENT
END:VCALENDAR
