BEGIN:VCALENDAR
VERSION:2.0
PRODID:SchoolNow
CALSCALE:GREGORIAN
BEGIN:VEVENT
UID:7a2c44c2-6f8d-11ef-b9f3-0affdaaaea37
DTSTAMP:20250108T211209Z
SUMMARY:CDD Board Meeting - Jan. 2025
LOCATION:Office of Rizzetta & Company Inc. located at 2700 S. Falkenburg Ro
 ad\, Suite 2745\, Riverview\, FL 33578
URL;VALUE=URI:https://www.hawkstonecdd.org/calendar/6569131/cdd-board-meeti
 ng-jan-2025
DTSTART:20250115T203000Z
DTEND:20250115T210000Z
ATTACH;FILENAME=2025-01-15- Hawkstone CDD- Final Agenda.pdf;FMTTYPE=applica
 tion/pdf:https://campussuite-storage.s3.amazonaws.com/prod/1558880/27c2e9a
 8-ea99-11e9-a1be-0a20d2c7fac4/2900331/34f49450-ce05-11ef-b284-0a58a9feac02
 /file/2025-01-15- Hawkstone CDD- Final Agenda.pdf
END:VEVENT
END:VCALENDAR
