BEGIN:VCALENDAR
VERSION:2.0
PRODID:SchoolNow
CALSCALE:GREGORIAN
BEGIN:VEVENT
UID:83f61046-6f8d-11ef-9f1e-0e6e046549ed
DTSTAMP:20250214T104730Z
SUMMARY:CDD Board Meeting - Feb. 2025
LOCATION:Office of Rizzetta & Company Inc. located at 2700 S. Falkenburg Ro
 ad\, Suite 2745\, Riverview\, FL 33578
URL;VALUE=URI:https://www.hawkstonecdd.org/calendar/6569132/cdd-board-meeti
 ng-feb-2025
DTSTART:20250219T203000Z
DTEND:20250219T210000Z
ATTACH;FILENAME=2025-02-19- Hawkstone CDD- Final Agenda.pdf;FMTTYPE=applica
 tion/pdf:https://campussuite-storage.s3.amazonaws.com/prod/1558880/27c2e9a
 8-ea99-11e9-a1be-0a20d2c7fac4/2915751/11835c62-eac1-11ef-abfe-0e46a8e27ea1
 /file/2025-02-19- Hawkstone CDD- Final Agenda.pdf
END:VEVENT
END:VCALENDAR
