BEGIN:VCALENDAR
VERSION:2.0
PRODID:SchoolNow
CALSCALE:GREGORIAN
BEGIN:VEVENT
UID:8dc7f832-6f8d-11ef-b162-0a58a9feac02
DTSTAMP:20250327T015202Z
SUMMARY:CDD Board Meeting - Mar. 2025
LOCATION:Office of Rizzetta & Company Inc. located at 2700 S. Falkenburg Ro
 ad\, Suite 2745\, Riverview\, FL 33578
URL;VALUE=URI:https://www.hawkstonecdd.org/calendar/6569133/cdd-board-meeti
 ng-mar-2025
DTSTART:20250319T193000Z
DTEND:20250319T200000Z
END:VEVENT
END:VCALENDAR
