BEGIN:VCALENDAR
VERSION:2.0
PRODID:SchoolNow
CALSCALE:GREGORIAN
BEGIN:VEVENT
UID:97b1c878-6f8d-11ef-b2c1-0a58a9feac02
DTSTAMP:20250415T185826Z
SUMMARY:CDD Board Meeting - Apr. 2025
LOCATION:Office of Rizzetta & Company Inc. located at 2700 S. Falkenburg Ro
 ad\, Suite 2745\, Riverview\, FL 33578
URL;VALUE=URI:https://www.hawkstonecdd.org/calendar/6569134/cdd-board-meeti
 ng-apr-2025
DTSTART:20250416T191000Z
DTEND:20250416T194000Z
ATTACH;FILENAME=2025-04-16- Hawkstone CDD- Revised Final Agenda.pdf;FMTTYPE
 =application/pdf:https://campussuite-storage.s3.amazonaws.com/prod/1558880
 /27c2e9a8-ea99-11e9-a1be-0a20d2c7fac4/2938155/3193f7e2-14af-11f0-9ad8-0a58
 a9feac02/file/2025-04-16- Hawkstone CDD- Revised Final Agenda.pdf
END:VEVENT
END:VCALENDAR
