BEGIN:VCALENDAR
VERSION:2.0
PRODID:SchoolNow
CALSCALE:GREGORIAN
BEGIN:VEVENT
UID:a4bd8872-6f8d-11ef-ae94-0263237086b5
DTSTAMP:20250521T173935Z
SUMMARY:CDD Board Meeting - May 2025
LOCATION:Office of Rizzetta & Company Inc. located at 2700 S. Falkenburg Ro
 ad\, Suite 2745\, Riverview\, FL 33578
URL;VALUE=URI:https://www.hawkstonecdd.org/calendar/6569135/cdd-board-meeti
 ng-may-2025
DTSTART:20250521T193000Z
DTEND:20250521T200000Z
ATTACH;FILENAME=2025-05-21 Hawkstone CDD - Revised Final Agenda.pdf;FMTTYPE
 =application/pdf:https://campussuite-storage.s3.amazonaws.com/prod/1558880
 /27c2e9a8-ea99-11e9-a1be-0a20d2c7fac4/2956110/038d6526-34cc-11f0-bf30-0e92
 9cb90aa5/file/2025-05-21 Hawkstone CDD - Revised Final Agenda.pdf
END:VEVENT
END:VCALENDAR
