BEGIN:VCALENDAR
VERSION:2.0
PRODID:SchoolNow
CALSCALE:GREGORIAN
BEGIN:VEVENT
UID:b6584c8e-6f8d-11ef-9778-0a58a9feac02
DTSTAMP:20250505T143954Z
SUMMARY:CDD Board Meeting - Jun. 2025 - Cancelled
LOCATION:Office of Rizzetta & Company Inc. located at 2700 S. Falkenburg Ro
 ad\, Suite 2745\, Riverview\, FL 33578
URL;VALUE=URI:https://www.hawkstonecdd.org/calendar/6569136/cdd-board-meeti
 ng-jun-2025
DTSTART:20250618T193000Z
DTEND:20250618T200000Z
END:VEVENT
END:VCALENDAR
