BEGIN:VCALENDAR
VERSION:2.0
PRODID:SchoolNow
CALSCALE:GREGORIAN
BEGIN:VEVENT
UID:bfc61454-6f8d-11ef-be69-0afff3f87517
DTSTAMP:20250718T193656Z
SUMMARY:CDD Board Meeting - Jul. 2025
LOCATION:Office of Rizzetta & Company Inc. located at 2700 S. Falkenburg Ro
 ad\, Suite 2745\, Riverview\, FL 33578
URL;VALUE=URI:https://www.hawkstonecdd.org/calendar/6569137/cdd-board-meeti
 ng-jul-2025
DTSTART:20250723T193000Z
DTEND:20250723T200000Z
ATTACH;FILENAME=2025-07-23- Hawkstone CDD- Final Agenda (1).pdf;FMTTYPE=app
 lication/pdf:https://campussuite-storage.s3.amazonaws.com/prod/1558880/27c
 2e9a8-ea99-11e9-a1be-0a20d2c7fac4/2982497/efb549e6-6307-11f0-8a1c-0a58a9fe
 ac02/file/2025-07-23- Hawkstone CDD- Final Agenda (1).pdf
END:VEVENT
END:VCALENDAR
