BEGIN:VCALENDAR
VERSION:2.0
PRODID:SchoolNow
CALSCALE:GREGORIAN
BEGIN:VEVENT
UID:c991c834-6f8d-11ef-9253-0e6e046549ed
DTSTAMP:20250819T120801Z
SUMMARY:CDD Board Meeting - Aug. 2025
LOCATION:Office of Rizzetta & Company Inc. located at 2700 S. Falkenburg Ro
 ad\, Suite 2745\, Riverview\, FL 33578
URL;VALUE=URI:https://www.hawkstonecdd.org/calendar/6569138/cdd-board-meeti
 ng-aug-2025
DTSTART:20250820T193000Z
DTEND:20250820T200000Z
ATTACH;FILENAME=2025-08-20- Hawkstone CDD- Revised Final Agenda (1).pdf;FMT
 TYPE=application/pdf:https://campussuite-storage.s3.amazonaws.com/prod/155
 8880/27c2e9a8-ea99-11e9-a1be-0a20d2c7fac4/2994860/2164fe76-7cf5-11f0-a7b5-
 0afff983aa55/file/2025-08-20- Hawkstone CDD- Revised Final Agenda (1).pdf
END:VEVENT
END:VCALENDAR
