BEGIN:VCALENDAR
VERSION:2.0
PRODID:SchoolNow
CALSCALE:GREGORIAN
BEGIN:VEVENT
UID:d5f82140-6f8d-11ef-8db6-0a58a9feac02
DTSTAMP:20250912T151526Z
SUMMARY:CDD Board Meeting - Sept. 2025 - Cancelled
LOCATION:Office of Rizzetta & Company Inc. located at 2700 S. Falkenburg Ro
 ad\, Suite 2745\, Riverview\, FL 33578
URL;VALUE=URI:https://www.hawkstonecdd.org/calendar/6569139/cdd-board-meeti
 ng-sept-2025
DTSTART:20250917T193000Z
DTEND:20250917T200000Z
ATTACH;FILENAME=2025-09-17- Hawkstone CDD- Final Agenda.pdf;FMTTYPE=applica
 tion/pdf:https://campussuite-storage.s3.amazonaws.com/prod/1558880/27c2e9a
 8-ea99-11e9-a1be-0a20d2c7fac4/3005960/8a7058d8-8f07-11f0-97f0-0affdf6f3aef
 /file/2025-09-17- Hawkstone CDD- Final Agenda.pdf
END:VEVENT
END:VCALENDAR
