BEGIN:VCALENDAR
VERSION:2.0
PRODID:SchoolNow
CALSCALE:GREGORIAN
BEGIN:VEVENT
UID:881aec82-a1e7-11ef-86ae-0e2d7b7a7517
DTSTAMP:20241113T191741Z
SUMMARY:Landowners Meeting - Nov. 2024
LOCATION:Office of Rizzetta & Company Inc. located at 2700 S. Falkenburg Ro
 ad\, Suite 2745\, Riverview\, FL 33578
URL;VALUE=URI:https://www.hawkstonecdd.org/calendar/7012361/landowners-meet
 ing-nov-2024
DTSTART:20241120T193000Z
DTEND:20241120T200000Z
ATTACH;FILENAME=2024-11-20- Hawkstone CDD- Landowners Meeting Agenda.pdf;FM
 TTYPE=application/pdf:https://campussuite-storage.s3.amazonaws.com/prod/15
 58880/27c2e9a8-ea99-11e9-a1be-0a20d2c7fac4/2879127/f1f8afa2-a1f3-11ef-a98a
 -02c562957e85/file/2024-11-20- Hawkstone CDD- Landowners Meeting Agenda.pd
 f
END:VEVENT
END:VCALENDAR
