BEGIN:VCALENDAR
VERSION:2.0
PRODID:SchoolNow
CALSCALE:GREGORIAN
BEGIN:VEVENT
UID:0b59d340-f474-11ef-ae84-0e3e24981e77
DTSTAMP:20250318T124509Z
SUMMARY:Audit Committee  Meeting - Mar. 2025
LOCATION:Office of Rizzetta & Company Inc. located at 2700 S. Falkenburg Ro
 ad\, Suite 2745\, Riverview\, FL 33578
URL;VALUE=URI:https://www.hawkstonecdd.org/calendar/7555858/audit-committee
 -meeting-mar-2025
DTSTART:20250319T191000Z
DTEND:20250319T194000Z
ATTACH;FILENAME=2025-03-19- Hawkstone CDD- Revised Final Agenda.pdf;FMTTYPE
 =application/pdf:https://campussuite-storage.s3.amazonaws.com/prod/1558880
 /27c2e9a8-ea99-11e9-a1be-0a20d2c7fac4/2928610/ccaf5e16-03f6-11f0-a851-0a58
 a9feac02/file/2025-03-19- Hawkstone CDD- Revised Final Agenda.pdf
END:VEVENT
END:VCALENDAR
