BEGIN:VCALENDAR
VERSION:2.0
PRODID:SchoolNow
CALSCALE:GREGORIAN
BEGIN:VEVENT
UID:56b5bb8c-695f-11f0-96cc-0a58a9feac02
DTSTAMP:20251015T181340Z
SUMMARY:CDD Board Meeting - Oct. 2025
LOCATION:Office of Rizzetta & Company Inc. located at 2700 S. Falkenburg Ro
 ad\, Suite 2745\, Riverview\, FL 33578
URL;VALUE=URI:https://www.hawkstonecdd.org/calendar/8445640/cdd-board-meeti
 ng-oct-2025
DTSTART:20251015T193000Z
DTEND:20251015T200000Z
ATTACH;FILENAME=2025-10-15- Hawkstone CDD-Revised Final Agenda.pdf;FMTTYPE=
 application/pdf:https://campussuite-storage.s3.amazonaws.com/prod/1558880/
 27c2e9a8-ea99-11e9-a1be-0a20d2c7fac4/3021287/2e74a2ea-a9c0-11f0-87b5-0a58a
 9feac02/file/2025-10-15- Hawkstone CDD-Revised Final Agenda.pdf
END:VEVENT
END:VCALENDAR
